BEGIN:VCALENDAR
PRODID:-//200.80.43.222//NONSGML iCalcreator 2.6//
VERSION:2.0
BEGIN:VEVENT
UID:20260422T232847CEST-6199cMc64a@200.80.43.222
DTSTAMP:20260422T212847Z
CATEGORIES:Instituto Gallego Hispano Argentino Santiago Apostol Events
DESCRIPTION:
DTSTART:19700101T000000
DTEND:19700101T000000
LOCATION:
SUMMARY:FERIADO con Fines Turísticos
END:VEVENT
END:VCALENDAR
