BEGIN:VCALENDAR
PRODID:-//200.80.43.222//NONSGML iCalcreator 2.6//
VERSION:2.0
BEGIN:VEVENT
UID:20260424T060307CEST-9416sch3Ie@200.80.43.222
DTSTAMP:20260424T040307Z
CATEGORIES:Instituto Gallego Hispano Argentino Santiago Apostol Events
DESCRIPTION:
DTSTART:19700101T000000
DTEND:19700101T000000
LOCATION:
SUMMARY:Nivel Secundario. Inicio Ciclo Lectivo 2018
END:VEVENT
END:VCALENDAR
