BEGIN:VCALENDAR
PRODID:-//200.80.43.222//NONSGML iCalcreator 2.6//
VERSION:2.0
BEGIN:VEVENT
UID:20260424T083313CEST-4388zV4cBe@200.80.43.222
DTSTAMP:20260424T063313Z
CATEGORIES:Instituto Gallego Hispano Argentino Santiago Apostol Events
DESCRIPTION:
DTSTART:19700101T000000
DTEND:19700101T000000
LOCATION:
SUMMARY:Nivel Inicial. Inicio Ciclo Lectivo 2018. Salas de 2 y 3 años
END:VEVENT
END:VCALENDAR
