BEGIN:VCALENDAR
PRODID:-//200.80.43.222//NONSGML iCalcreator 2.6//
VERSION:2.0
BEGIN:VEVENT
UID:20260424T150109CEST-2066ELfau3@200.80.43.222
DTSTAMP:20260424T130109Z
CATEGORIES:Instituto Gallego Hispano Argentino Santiago Apostol Events
DESCRIPTION:
DTSTART:19700101T000000
DTEND:19700101T000000
LOCATION:
SUMMARY:Comedia musical 3ro\, 4to. y 5to. grado
END:VEVENT
END:VCALENDAR
